BEGIN:VCALENDAR
VERSION:2.0
PRODID:SchoolNow
CALSCALE:GREGORIAN
BEGIN:VEVENT
UID:62a04774-101b-11ec-b89c-0e3aba9b7d67
DTSTAMP:20210916T141648Z
SUMMARY:Village of Oak Park Virtual Symposium on Sustainability
URL;VALUE=URI:https://www.op97.org/calendar/2715294/village-of-oak-park-vir
 tual-symposium-on-sustainability
DTSTART:20210918T140000Z
DTEND:20210918T160000Z
END:VEVENT
END:VCALENDAR
