BEGIN:VCALENDAR
VERSION:2.0
PRODID:SchoolNow
CALSCALE:GREGORIAN
BEGIN:VEVENT
UID:44ba9fb2-1d76-11ec-b113-0a5d854dbbf1
DTSTAMP:20210924T203033Z
SUMMARY:Virtual Candidate Forum for Board Vacancy
URL;VALUE=URI:https://www.op97.org/calendar/2762155/virtual-candidate-forum
 -for-board-vacancy
DTSTART:20210927T223000Z
DTEND:20210928T000000Z
END:VEVENT
END:VCALENDAR
