BEGIN:VCALENDAR
VERSION:2.0
PRODID:SchoolNow
CALSCALE:GREGORIAN
BEGIN:VEVENT
UID:23269f66-3056-11ec-98f8-0ace9f781a37
DTSTAMP:20211018T205825Z
SUMMARY:Meeting - IGA Governing Board for Collaboration of Early Childhood 
 Care and Education
URL;VALUE=URI:https://www.op97.org/calendar/2825839/meeting-iga-governing-b
 oard-for-collaboration-of-early-childhood-care-and-education
DTSTART:20211021T000000Z
DTEND:20211021T020000Z
END:VEVENT
END:VCALENDAR
