BEGIN:VCALENDAR
VERSION:2.0
PRODID:SchoolNow
CALSCALE:GREGORIAN
BEGIN:VEVENT
UID:34e63686-46ee-11ec-8267-0e75cb554483
DTSTAMP:20211116T150224Z
SUMMARY:Tri-Board Meeting - Collaboration for Early Childhood
LOCATION:VIRTUAL (see meeting agenda for details)
URL;VALUE=URI:https://www.op97.org/calendar/2896926/triboard-meeting-collab
 oration-for-early-childhood-2021
DTSTART:20211118T010000Z
DTEND:20211118T055900Z
END:VEVENT
END:VCALENDAR
