BEGIN:VCALENDAR
VERSION:2.0
PRODID:SchoolNow
CALSCALE:GREGORIAN
BEGIN:VEVENT
UID:7f051fee-56ec-11ec-9028-0a3e0f03b34b
DTSTAMP:20211206T233028Z
SUMMARY:Special Board Meeting
URL;VALUE=URI:https://www.op97.org/calendar/2935241/special-board-meeting-1
 20621
DTSTART:20211207T000000Z
DTEND:20211207T045900Z
END:VEVENT
END:VCALENDAR
