BEGIN:VCALENDAR
VERSION:2.0
PRODID:SchoolNow
CALSCALE:GREGORIAN
BEGIN:VEVENT
UID:817b08ba-56ec-11ec-88c1-0a3e0f03b34b
DTSTAMP:20211207T154330Z
SUMMARY:Special Board Meeting
URL;VALUE=URI:https://www.op97.org/calendar/2935242/special-board-meeting-1
 20921
DTSTART:20211209T230000Z
DTEND:20211210T035900Z
END:VEVENT
END:VCALENDAR
