BEGIN:VCALENDAR
VERSION:2.0
PRODID:SchoolNow
CALSCALE:GREGORIAN
BEGIN:VEVENT
UID:dad2bea4-7491-11ec-be2c-0e3399019e91
DTSTAMP:20220113T165713Z
SUMMARY:Special Board Meeting
URL;VALUE=URI:https://www.op97.org/calendar/3073650/special-board-meeting
DTSTART:20220114T140000Z
DTEND:20220114T150000Z
END:VEVENT
END:VCALENDAR
