BEGIN:VCALENDAR
VERSION:2.0
PRODID:SchoolNow
CALSCALE:GREGORIAN
BEGIN:VEVENT
UID:1dff4f40-7973-11ec-b31f-0e1b3a4c0a75
DTSTAMP:20220119T215947Z
SUMMARY:CLAIM Virtual Legislators Forum
URL;VALUE=URI:https://www.op97.org/calendar/3078172/claim-virtual-legislato
 rs-forum
DTSTART:20220127T013000Z
DTEND:20220127T023000Z
END:VEVENT
END:VCALENDAR
