BEGIN:VCALENDAR
VERSION:2.0
PRODID:SchoolNow
CALSCALE:GREGORIAN
BEGIN:VEVENT
UID:61d6a09c-9403-11ec-bdbd-025562101b21
DTSTAMP:20220222T171758Z
SUMMARY:Tri-Board Meeting - Collaboration for Early Childhood
URL;VALUE=URI:https://www.op97.org/calendar/3111789/tri-board-meeting-colla
 boration-for-early-childhood
DTSTART:20220224T010000Z
DTEND:20220224T020000Z
END:VEVENT
END:VCALENDAR
