BEGIN:VCALENDAR
VERSION:2.0
PRODID:SchoolNow
CALSCALE:GREGORIAN
BEGIN:VEVENT
UID:f0c51fbe-9736-11ec-a41a-0235dfe55113
DTSTAMP:20220226T190436Z
SUMMARY:Emergency Board Meeting
URL;VALUE=URI:https://www.op97.org/calendar/3117637/emergency-board-meeting
 -022722
DTSTART:20220227T190000Z
DTEND:20220227T200000Z
END:VEVENT
END:VCALENDAR
