BEGIN:VCALENDAR
VERSION:2.0
PRODID:SchoolNow
CALSCALE:GREGORIAN
BEGIN:VEVENT
UID:ea3608d4-396e-11ef-8230-0a58a9feac02
DTSTAMP:20240703T192046Z
SUMMARY:Spring Break - D97 Schools Closed
URL;VALUE=URI:https://www.op97.org/calendar/6208219/spring-break-d97-school
 s-closed
DTSTART;VALUE=DATE:20250324
DTEND;VALUE=DATE:20250329
END:VEVENT
END:VCALENDAR
