BEGIN:VCALENDAR
VERSION:2.0
PRODID:SchoolNow
CALSCALE:GREGORIAN
BEGIN:VEVENT
UID:2f8e9670-3970-11ef-9629-0a58a9feac02
DTSTAMP:20240703T192131Z
SUMMARY:Memorial Day - D97 Schools/Offices Closed
URL;VALUE=URI:https://www.op97.org/calendar/6208266/memorial-day-d97-school
 s-offices-closed
DTSTART;VALUE=DATE:20250526
DTEND;VALUE=DATE:20250527
END:VEVENT
END:VCALENDAR
