BEGIN:VCALENDAR
VERSION:2.0
PRODID:SchoolNow
CALSCALE:GREGORIAN
BEGIN:VEVENT
UID:f2c8e2f8-3970-11ef-a225-0a58a9feac02
DTSTAMP:20240703T192201Z
SUMMARY:Juneteenth - D97 Schools/Offices Closed
URL;VALUE=URI:https://www.op97.org/calendar/6208291/juneteenth-d97-schools-
 offices-closed
DTSTART;VALUE=DATE:20250619
DTEND;VALUE=DATE:20250620
END:VEVENT
END:VCALENDAR
