BEGIN:VCALENDAR
VERSION:2.0
PRODID:SchoolNow
CALSCALE:GREGORIAN
BEGIN:VEVENT
UID:d7da205e-5ff6-11ef-a59b-0e1f87a6134f
DTSTAMP:20240821T195205Z
SUMMARY:Committee of the Whole Meeting
URL;VALUE=URI:https://www.op97.org/calendar/6438514/committee-of-the-whole-
 meeting-012825
DTSTART:20250129T010000Z
DTEND:20250129T055900Z
END:VEVENT
END:VCALENDAR
