BEGIN:VCALENDAR
VERSION:2.0
PRODID:SchoolNow
CALSCALE:GREGORIAN
BEGIN:VEVENT
UID:d9d9b9c8-5ff6-11ef-9bb9-02dd757ef76b
DTSTAMP:20240821T195209Z
SUMMARY:Committee of the Whole Meeting
URL;VALUE=URI:https://www.op97.org/calendar/6438515/committee-of-the-whole-
 meeting-022525
DTSTART:20250226T010000Z
DTEND:20250226T055900Z
END:VEVENT
END:VCALENDAR
