BEGIN:VCALENDAR
VERSION:2.0
PRODID:SchoolNow
CALSCALE:GREGORIAN
BEGIN:VEVENT
UID:dbdf5426-5ff6-11ef-9af9-0afff9476379
DTSTAMP:20240821T195212Z
SUMMARY:Committee of the Whole Meeting
URL;VALUE=URI:https://www.op97.org/calendar/6438516/committee-of-the-whole-
 meeting-042225
DTSTART:20250423T000000Z
DTEND:20250423T045900Z
END:VEVENT
END:VCALENDAR
