BEGIN:VCALENDAR
VERSION:2.0
PRODID:SchoolNow
CALSCALE:GREGORIAN
BEGIN:VEVENT
UID:ddd00fd2-5ff6-11ef-83a3-02dd757ef76b
DTSTAMP:20240821T195215Z
SUMMARY:Committee of the Whole Meeting
URL;VALUE=URI:https://www.op97.org/calendar/6438517/committee-of-the-whole-
 meeting-052725
DTSTART:20250528T000000Z
DTEND:20250528T045900Z
END:VEVENT
END:VCALENDAR
