BEGIN:VCALENDAR
VERSION:2.0
PRODID:SchoolNow
CALSCALE:GREGORIAN
BEGIN:VEVENT
UID:cf12c560-5ff7-11ef-97b4-0a58a9feac02
DTSTAMP:20240821T195900Z
SUMMARY:Board Meeting
URL;VALUE=URI:https://www.op97.org/calendar/6438531/board-meeting-111224
DTSTART:20241113T010000Z
DTEND:20241113T055900Z
END:VEVENT
END:VCALENDAR
