BEGIN:VCALENDAR
VERSION:2.0
PRODID:SchoolNow
CALSCALE:GREGORIAN
BEGIN:VEVENT
UID:d0d3f0e0-5ff7-11ef-b2eb-02dd757ef76b
DTSTAMP:20240821T195903Z
SUMMARY:Board Meeting
URL;VALUE=URI:https://www.op97.org/calendar/6438532/board-meeting-121024
DTSTART:20241211T010000Z
DTEND:20241211T055900Z
END:VEVENT
END:VCALENDAR
