BEGIN:VCALENDAR
VERSION:2.0
PRODID:SchoolNow
CALSCALE:GREGORIAN
BEGIN:VEVENT
UID:d283d48c-5ff7-11ef-b009-0a58a9feac02
DTSTAMP:20250115T014018Z
SUMMARY:Board Meeting
URL;VALUE=URI:https://www.op97.org/calendar/6438533/board-meeting-011425
DTSTART:20250115T010000Z
DTEND:20250115T055900Z
END:VEVENT
END:VCALENDAR
