BEGIN:VCALENDAR
VERSION:2.0
PRODID:SchoolNow
CALSCALE:GREGORIAN
BEGIN:VEVENT
UID:d4a557ea-5ff7-11ef-8cf2-0a58a9feac02
DTSTAMP:20240821T195910Z
SUMMARY:Board Meeting
URL;VALUE=URI:https://www.op97.org/calendar/6438534/board-meeting-021125
DTSTART:20250212T010000Z
DTEND:20250212T055900Z
END:VEVENT
END:VCALENDAR
