BEGIN:VCALENDAR
VERSION:2.0
PRODID:SchoolNow
CALSCALE:GREGORIAN
BEGIN:VEVENT
UID:d6579634-5ff7-11ef-b1b1-0e717b52c65d
DTSTAMP:20240821T195912Z
SUMMARY:Board Meeting
URL;VALUE=URI:https://www.op97.org/calendar/6438535/board-meeting-031825
DTSTART:20250319T000000Z
DTEND:20250319T045900Z
END:VEVENT
END:VCALENDAR
