BEGIN:VCALENDAR
VERSION:2.0
PRODID:SchoolNow
CALSCALE:GREGORIAN
BEGIN:VEVENT
UID:d8393034-5ff7-11ef-9b0f-0a58a9feac02
DTSTAMP:20240821T195916Z
SUMMARY:Board Meeting
URL;VALUE=URI:https://www.op97.org/calendar/6438536/board-meeting-040825
DTSTART:20250409T000000Z
DTEND:20250409T045900Z
END:VEVENT
END:VCALENDAR
