BEGIN:VCALENDAR
VERSION:2.0
PRODID:SchoolNow
CALSCALE:GREGORIAN
BEGIN:VEVENT
UID:db648826-5ff7-11ef-8a2b-0a58a9feac02
DTSTAMP:20240821T195921Z
SUMMARY:Board Meeting
URL;VALUE=URI:https://www.op97.org/calendar/6438538/board-meeting-061025
DTSTART:20250611T000000Z
DTEND:20250611T045900Z
END:VEVENT
END:VCALENDAR
