BEGIN:VCALENDAR
VERSION:2.0
PRODID:SchoolNow
CALSCALE:GREGORIAN
BEGIN:VEVENT
UID:c8953166-ac44-11ef-89c4-0ed80200cb19
DTSTAMP:20241126T222129Z
SUMMARY:Facilities Advisory Committee (FAC) Meeting
URL;VALUE=URI:https://www.op97.org/calendar/7084041/facilities-advisory-com
 mittee-fac-meeting
DTSTART:20241204T010000Z
DTEND:20241204T020000Z
END:VEVENT
END:VCALENDAR
