BEGIN:VCALENDAR
VERSION:2.0
PRODID:SchoolNow
CALSCALE:GREGORIAN
BEGIN:VEVENT
UID:f2eb4de2-ac44-11ef-9e40-0ede52fc0f63
DTSTAMP:20241126T222240Z
SUMMARY:Sustainability Task Force Meeting - December 3\, 2024
URL;VALUE=URI:https://www.op97.org/calendar/7084042/sustainability-task-for
 ce-meeting-december-3-2024
DTSTART:20241203T233000Z
DTEND:20241204T010000Z
END:VEVENT
END:VCALENDAR
