BEGIN:VCALENDAR
VERSION:2.0
PRODID:SchoolNow
CALSCALE:GREGORIAN
BEGIN:VEVENT
UID:8a23635c-ac45-11ef-a0a4-0ed80200cb19
DTSTAMP:20241126T222741Z
SUMMARY:Special Executive Closed Session - Dec 02 2024
URL;VALUE=URI:https://www.op97.org/calendar/7084043/special-executive-close
 d-session-dec-02-2024
DTSTART:20241203T000000Z
DTEND:20241203T030000Z
END:VEVENT
END:VCALENDAR
