BEGIN:VCALENDAR
VERSION:2.0
PRODID:SchoolNow
CALSCALE:GREGORIAN
BEGIN:VEVENT
UID:351e9c94-bf16-11ef-9b8c-0afff0583425
DTSTAMP:20241220T222049Z
SUMMARY:Finance Oversight and Review Committee (FORC) Meeting
URL;VALUE=URI:https://www.op97.org/calendar/7202803/finance-oversight-and-r
 eview-committee-forc-meeting
DTSTART:20250109T010000Z
DTEND:20250109T020000Z
END:VEVENT
END:VCALENDAR
