BEGIN:VCALENDAR
VERSION:2.0
PRODID:SchoolNow
CALSCALE:GREGORIAN
BEGIN:VEVENT
UID:91907af4-cefe-11ef-8fac-0a58a9feac02
DTSTAMP:20250110T025703Z
SUMMARY:Erin's Law Virtual Family Session
URL;VALUE=URI:https://www.op97.org/calendar/7294680/erins-law-virtual-famil
 y-session
DTSTART:20250115T003000Z
DTEND:20250115T013000Z
END:VEVENT
END:VCALENDAR
