BEGIN:VCALENDAR
VERSION:2.0
PRODID:SchoolNow
CALSCALE:GREGORIAN
BEGIN:VEVENT
UID:25249bde-e966-11ef-9831-0a58a9feac02
DTSTAMP:20250305T212554Z
SUMMARY:Finance Oversight and Review Committee (FORC) Meeting
URL;VALUE=URI:https://www.op97.org/calendar/7458589/finance-oversight-and-r
 eview-committee-forc-meeting
DTSTART:20250307T020000Z
DTEND:20250307T030000Z
END:VEVENT
END:VCALENDAR
