BEGIN:VCALENDAR
VERSION:2.0
PRODID:SchoolNow
CALSCALE:GREGORIAN
BEGIN:VEVENT
UID:cae2d41e-e966-11ef-8e81-02f206ac1caf
DTSTAMP:20250212T173138Z
SUMMARY:Sustainability Task Force Meeting
URL;VALUE=URI:https://www.op97.org/calendar/7458597/sustainability-task-for
 ce-meeting
DTSTART:20250304T233000Z
DTEND:20250305T010000Z
END:VEVENT
END:VCALENDAR
