BEGIN:VCALENDAR
VERSION:2.0
PRODID:SchoolNow
CALSCALE:GREGORIAN
BEGIN:VEVENT
UID:e5235252-e986-11ef-9d68-02ae06037b2d
DTSTAMP:20250212T211825Z
SUMMARY:Facilities Advisory Committee
URL;VALUE=URI:https://www.op97.org/calendar/7459823/facilities-advisory-com
 mittee
DTSTART:20250304T130000Z
DTEND:20250304T140000Z
END:VEVENT
END:VCALENDAR
