BEGIN:VCALENDAR
VERSION:2.0
PRODID:SchoolNow
CALSCALE:GREGORIAN
BEGIN:VEVENT
UID:fd459886-e986-11ef-963a-0affdd2c4c4d
DTSTAMP:20250516T195926Z
SUMMARY:Facilities Advisory Committee
URL;VALUE=URI:https://www.op97.org/calendar/7459825/facilities-advisory-com
 mittee
DTSTART:20250521T000000Z
DTEND:20250521T010000Z
END:VEVENT
END:VCALENDAR
