BEGIN:VCALENDAR
VERSION:2.0
PRODID:SchoolNow
CALSCALE:GREGORIAN
BEGIN:VEVENT
UID:a2d58a9a-e987-11ef-bada-0a58a9feac02
DTSTAMP:20250212T212343Z
SUMMARY:Parent-Teacher Advisory Committee
URL;VALUE=URI:https://www.op97.org/calendar/7459827/parent-teacher-advisory
 -committee
DTSTART:20250311T230000Z
DTEND:20250312T000000Z
END:VEVENT
END:VCALENDAR
