BEGIN:VCALENDAR
VERSION:2.0
PRODID:SchoolNow
CALSCALE:GREGORIAN
BEGIN:VEVENT
UID:d027b0a4-e987-11ef-a255-02a695f23d73
DTSTAMP:20250505T212326Z
SUMMARY:Parent-Teacher Advisory Committee
URL;VALUE=URI:https://www.op97.org/calendar/7459829/parent-teacher-advisory
 -committee
DTSTART:20250507T230000Z
DTEND:20250508T003000Z
END:VEVENT
END:VCALENDAR
