BEGIN:VCALENDAR
VERSION:2.0
PRODID:SchoolNow
CALSCALE:GREGORIAN
BEGIN:VEVENT
UID:01b5b3c6-f925-11ef-bb80-0a58a9feac02
DTSTAMP:20250304T181800Z
SUMMARY:Institute Day - No School for Students
URL;VALUE=URI:https://www.op97.org/calendar/7600643/institute-day-no-school
 -for-students-081825
DTSTART;VALUE=DATE:20250818
DTEND;VALUE=DATE:20250819
END:VEVENT
END:VCALENDAR
