BEGIN:VCALENDAR
VERSION:2.0
PRODID:SchoolNow
CALSCALE:GREGORIAN
BEGIN:VEVENT
UID:1a58233c-f925-11ef-93cf-0e29a23681f3
DTSTAMP:20250304T181842Z
SUMMARY:Institute Day - No School for Students
URL;VALUE=URI:https://www.op97.org/calendar/7600644/institute-day-no-school
 -for-students-081925
DTSTART;VALUE=DATE:20250819
DTEND;VALUE=DATE:20250820
END:VEVENT
END:VCALENDAR
