BEGIN:VCALENDAR
VERSION:2.0
PRODID:SchoolNow
CALSCALE:GREGORIAN
BEGIN:VEVENT
UID:26c95532-f925-11ef-a971-0a58a9feac02
DTSTAMP:20250304T181903Z
SUMMARY:Institute Day - No School for Students
URL;VALUE=URI:https://www.op97.org/calendar/7600645/institute-day-no-school
 -for-students-010526
DTSTART;VALUE=DATE:20260105
DTEND;VALUE=DATE:20260106
END:VEVENT
END:VCALENDAR
