BEGIN:VCALENDAR
VERSION:2.0
PRODID:SchoolNow
CALSCALE:GREGORIAN
BEGIN:VEVENT
UID:2f6bafca-f928-11ef-8554-0e29a23681f3
DTSTAMP:20250304T184046Z
SUMMARY:Family/Teacher Conferences - No School for Students
URL;VALUE=URI:https://www.op97.org/calendar/7600648/family-teacher-conferen
 ces-no-school-for-students-102425
DTSTART;VALUE=DATE:20251024
DTEND;VALUE=DATE:20251025
END:VEVENT
END:VCALENDAR
