BEGIN:VCALENDAR
VERSION:2.0
PRODID:SchoolNow
CALSCALE:GREGORIAN
BEGIN:VEVENT
UID:04d56fe8-f92e-11ef-8163-02895e778007
DTSTAMP:20250304T192417Z
SUMMARY:Family/Teacher Conferences - Full Day of Student Attendance
URL;VALUE=URI:https://www.op97.org/calendar/7600738/family-teacher-conferen
 ces-full-day-of-student-attendance-102325
DTSTART;VALUE=DATE:20251023
DTEND;VALUE=DATE:20251024
END:VEVENT
END:VCALENDAR
