BEGIN:VCALENDAR
VERSION:2.0
PRODID:SchoolNow
CALSCALE:GREGORIAN
BEGIN:VEVENT
UID:6c54e2f2-f92e-11ef-b247-0a58a9feac02
DTSTAMP:20250304T192525Z
SUMMARY:First Day of School for Students
URL;VALUE=URI:https://www.op97.org/calendar/7600740/first-day-of-school-082
 025
DTSTART;VALUE=DATE:20250820
DTEND;VALUE=DATE:20250821
END:VEVENT
END:VCALENDAR
