BEGIN:VCALENDAR
VERSION:2.0
PRODID:SchoolNow
CALSCALE:GREGORIAN
BEGIN:VEVENT
UID:ebad53e0-f92e-11ef-96a3-0a58a9feac02
DTSTAMP:20250304T192858Z
SUMMARY:Independence Day - D97 Schools/Offices Closed
URL;VALUE=URI:https://www.op97.org/calendar/7600741/independence-day-d97-sc
 hools-offices-closed-2025
DTSTART;VALUE=DATE:20250704
DTEND;VALUE=DATE:20250705
END:VEVENT
END:VCALENDAR
