BEGIN:VCALENDAR
VERSION:2.0
PRODID:SchoolNow
CALSCALE:GREGORIAN
BEGIN:VEVENT
UID:03b2faf8-f92f-11ef-b413-0a58a9feac02
DTSTAMP:20250304T192939Z
SUMMARY:Labor Day - D97 Schools/Offices Closed
URL;VALUE=URI:https://www.op97.org/calendar/7600742/labor-day-d97-schools-o
 ffices-closed-090125
DTSTART;VALUE=DATE:20250901
DTEND;VALUE=DATE:20250902
END:VEVENT
END:VCALENDAR
