BEGIN:VCALENDAR
VERSION:2.0
PRODID:SchoolNow
CALSCALE:GREGORIAN
BEGIN:VEVENT
UID:321c41ba-f92f-11ef-836e-0a58a9feac02
DTSTAMP:20250304T193057Z
SUMMARY:District 97 Schools/Offices Closed
URL;VALUE=URI:https://www.op97.org/calendar/7600743/district-97-schools-off
 ices-closed-092325
DTSTART;VALUE=DATE:20250923
DTEND;VALUE=DATE:20250924
END:VEVENT
END:VCALENDAR
