BEGIN:VCALENDAR
VERSION:2.0
PRODID:SchoolNow
CALSCALE:GREGORIAN
BEGIN:VEVENT
UID:8ae83272-f92f-11ef-b9af-0a58a9feac02
DTSTAMP:20250304T193326Z
SUMMARY:District 97 Schools/Offices Closed
URL;VALUE=URI:https://www.op97.org/calendar/7600744/district-97-schools-off
 ices-closed-100225
DTSTART;VALUE=DATE:20251002
DTEND;VALUE=DATE:20251003
END:VEVENT
END:VCALENDAR
