BEGIN:VCALENDAR
VERSION:2.0
PRODID:SchoolNow
CALSCALE:GREGORIAN
BEGIN:VEVENT
UID:ba44aa6e-f92f-11ef-bc80-0a58a9feac02
DTSTAMP:20250304T193445Z
SUMMARY:Indigenous Peoples' Day - D97 Schools/Offices Closed
URL;VALUE=URI:https://www.op97.org/calendar/7600745/indigenous-peoples-day-
 d97-schools-offices-closed-2025
DTSTART;VALUE=DATE:20251013
DTEND;VALUE=DATE:20251014
END:VEVENT
END:VCALENDAR
