BEGIN:VCALENDAR
VERSION:2.0
PRODID:SchoolNow
CALSCALE:GREGORIAN
BEGIN:VEVENT
UID:d627b730-f92f-11ef-b456-0a58a9feac02
DTSTAMP:20250304T193532Z
SUMMARY:Martin Luther King Jr. Day - D97 Schools/Offices Closed
URL;VALUE=URI:https://www.op97.org/calendar/7600792/martin-luther-king-jr-d
 ay-d97-schools-offices-closed-2026
DTSTART;VALUE=DATE:20260119
DTEND;VALUE=DATE:20260120
END:VEVENT
END:VCALENDAR
