BEGIN:VCALENDAR
VERSION:2.0
PRODID:SchoolNow
CALSCALE:GREGORIAN
BEGIN:VEVENT
UID:f53f2da6-f92f-11ef-9091-0a58a9feac02
DTSTAMP:20250304T193624Z
SUMMARY:Presidents Day - D97 Schools/Offices Closed
URL;VALUE=URI:https://www.op97.org/calendar/7600793/presidents-day-2026
DTSTART;VALUE=DATE:20260216
DTEND;VALUE=DATE:20260217
END:VEVENT
END:VCALENDAR
