BEGIN:VCALENDAR
VERSION:2.0
PRODID:SchoolNow
CALSCALE:GREGORIAN
BEGIN:VEVENT
UID:1ce160c6-f931-11ef-8620-0a58a9feac02
DTSTAMP:20260324T185957Z
SUMMARY:District 97 Schools/Offices Closed
URL;VALUE=URI:https://www.op97.org/calendar/7600806/district-97-schools-off
 ices-closed-040326
DTSTART;VALUE=DATE:20260403
DTEND;VALUE=DATE:20260404
END:VEVENT
END:VCALENDAR
