BEGIN:VCALENDAR
VERSION:2.0
PRODID:SchoolNow
CALSCALE:GREGORIAN
BEGIN:VEVENT
UID:56b9df94-f931-11ef-9b23-0a58a9feac02
DTSTAMP:20250304T194617Z
SUMMARY:Thanksgiving Break - D97 Schools/Offices Closed
URL;VALUE=URI:https://www.op97.org/calendar/7600819/thanksgiving-break-d97-
 schools-offices-closed-2025
DTSTART;VALUE=DATE:20251126
DTEND;VALUE=DATE:20251129
END:VEVENT
END:VCALENDAR
